BEGIN:VCALENDAR
VERSION:2.0
PRODID:SchoolNow
CALSCALE:GREGORIAN
BEGIN:VEVENT
UID:20ef91d0-329f-11f1-a6e0-0a58a9feac02
DTSTAMP:20260419T142606Z
SUMMARY:Baseball/Softball practices
URL;VALUE=URI:https://www.nottingham.k12.nh.us/student-activities/calendar/
 8977123/baseball-softball-practices
DTSTART:20260422T183000Z
DTEND:20260422T203000Z
END:VEVENT
END:VCALENDAR
