BEGIN:VCALENDAR
VERSION:2.0
PRODID:SchoolNow
CALSCALE:GREGORIAN
BEGIN:VEVENT
UID:20ef8d0c-329f-11f1-b9bb-0a58a9feac02
DTSTAMP:20260419T142606Z
SUMMARY:Baseball/Softball practices
URL;VALUE=URI:https://www.nottingham.k12.nh.us/student-activities/calendar/
 8977122/baseball-softball-practices
DTSTART:20260420T183000Z
DTEND:20260420T203000Z
END:VEVENT
END:VCALENDAR
