BEGIN:VCALENDAR
VERSION:2.0
PRODID:SchoolNow
CALSCALE:GREGORIAN
BEGIN:VEVENT
UID:20ce2cde-329f-11f1-bb9d-0a58a9feac02
DTSTAMP:20260419T142606Z
SUMMARY:GAMES - BB/SB (home) vs. Strafford
URL;VALUE=URI:https://www.nottingham.k12.nh.us/student-activities/calendar/
 8977118/games-bb-sb-home-vs-strafford
DTSTART:20260423T194500Z
DTEND:20260423T214500Z
END:VEVENT
END:VCALENDAR
