BEGIN:VCALENDAR
VERSION:2.0
PRODID:SchoolNow
CALSCALE:GREGORIAN
BEGIN:VEVENT
UID:20ce2338-329f-11f1-a513-0a58a9feac02
DTSTAMP:20260419T142606Z
SUMMARY:GAMES - BB/SB (home) VS. Deerfield
URL;VALUE=URI:https://www.nottingham.k12.nh.us/student-activities/calendar/
 8977113/games-bb-sb-home-vs-deerfield
DTSTART:20260421T194500Z
DTEND:20260421T214500Z
END:VEVENT
END:VCALENDAR
