BEGIN:VCALENDAR
VERSION:2.0
PRODID:SchoolNow
CALSCALE:GREGORIAN
BEGIN:VEVENT
UID:3328b782-1d82-11f1-88da-0287a905bf91
DTSTAMP:20260419T142606Z
SUMMARY:Baseball Practice
URL;VALUE=URI:https://www.nottingham.k12.nh.us/student-activities/calendar/
 8910391/baseball-practice
DTSTART:20260330T200000Z
DTEND:20260330T213000Z
END:VEVENT
END:VCALENDAR
