BEGIN:VCALENDAR
VERSION:2.0
PRODID:SchoolNow
CALSCALE:GREGORIAN
BEGIN:VEVENT
UID:32f0a220-1d82-11f1-a11a-0287a905bf91
DTSTAMP:20260419T142606Z
SUMMARY:Baseball Practice
URL;VALUE=URI:https://www.nottingham.k12.nh.us/student-activities/calendar/
 8910385/baseball-practice
DTSTART:20260319T200000Z
DTEND:20260319T213000Z
END:VEVENT
END:VCALENDAR
