BEGIN:VCALENDAR
VERSION:2.0
PRODID:SchoolNow
CALSCALE:GREGORIAN
BEGIN:VEVENT
UID:8ea3187e-1d4f-11f1-8dd8-0a58a9feac02
DTSTAMP:20260419T142606Z
SUMMARY:CXLD Varsity teams @ Nute (B/G) 4p/5:15
LOCATION:Nute Middle/High School & Library\, 22 Elm St\, Milton\, NH 03851\
 , USA
URL;VALUE=URI:https://www.nottingham.k12.nh.us/student-activities/calendar/
 8909632/cxld-varsity-teams-nute-b-g-4p-5-15
DTSTART:20260126T210000Z
DTEND:20260126T221500Z
END:VEVENT
END:VCALENDAR
