BEGIN:VCALENDAR
VERSION:2.0
PRODID:SchoolNow
CALSCALE:GREGORIAN
BEGIN:VEVENT
UID:8ea31702-1d4f-11f1-ab99-0a58a9feac02
DTSTAMP:20260419T142606Z
SUMMARY:Girls Varsity Practice
URL;VALUE=URI:https://www.nottingham.k12.nh.us/student-activities/calendar/
 8909631/girls-varsity-practice
DTSTART:20260121T210000Z
DTEND:20260121T221500Z
END:VEVENT
END:VCALENDAR
