BEGIN:VCALENDAR
VERSION:2.0
PRODID:SchoolNow
CALSCALE:GREGORIAN
BEGIN:VEVENT
UID:8ea30f32-1d4f-11f1-9512-0a58a9feac02
DTSTAMP:20260419T142606Z
SUMMARY:Softball Practice
URL;VALUE=URI:https://www.nottingham.k12.nh.us/student-activities/calendar/
 8909628/softball-practice
DTSTART:20260318T183000Z
DTEND:20260318T201500Z
END:VEVENT
END:VCALENDAR
