BEGIN:VCALENDAR
VERSION:2.0
PRODID:SchoolNow
CALSCALE:GREGORIAN
BEGIN:VEVENT
UID:8ea30442-1d4f-11f1-94dc-0a58a9feac02
DTSTAMP:20260419T142606Z
SUMMARY:Boys JV Practice
URL;VALUE=URI:https://www.nottingham.k12.nh.us/student-activities/calendar/
 8909616/boys-jv-practice
DTSTART:20260121T193000Z
DTEND:20260121T210000Z
END:VEVENT
END:VCALENDAR
