BEGIN:VCALENDAR
VERSION:2.0
PRODID:SchoolNow
CALSCALE:GREGORIAN
BEGIN:VEVENT
UID:8ea3035c-1d4f-11f1-816c-0a58a9feac02
DTSTAMP:20260419T142606Z
SUMMARY:Boys JV Practice
URL;VALUE=URI:https://www.nottingham.k12.nh.us/student-activities/calendar/
 8909615/boys-jv-practice
DTSTART:20260116T193000Z
DTEND:20260116T210000Z
END:VEVENT
END:VCALENDAR
