BEGIN:VCALENDAR
VERSION:2.0
PRODID:SchoolNow
CALSCALE:GREGORIAN
BEGIN:VEVENT
UID:8ea2f448-1d4f-11f1-acde-0a58a9feac02
DTSTAMP:20260419T142606Z
SUMMARY:Baseball/Softball practices
URL;VALUE=URI:https://www.nottingham.k12.nh.us/student-activities/calendar/
 8909600/baseball-softball-practices
DTSTART:20260413T183000Z
DTEND:20260413T203000Z
END:VEVENT
END:VCALENDAR
