BEGIN:VCALENDAR
VERSION:2.0
PRODID:SchoolNow
CALSCALE:GREGORIAN
BEGIN:VEVENT
UID:8ea2f312-1d4f-11f1-908d-0a58a9feac02
DTSTAMP:20260419T142606Z
SUMMARY:Softball practice  (baseball off)
URL;VALUE=URI:https://www.nottingham.k12.nh.us/student-activities/calendar/
 8909599/softball-practice-baseball-off
DTSTART:20260408T183000Z
DTEND:20260408T201500Z
END:VEVENT
END:VCALENDAR
