BEGIN:VCALENDAR
VERSION:2.0
PRODID:SchoolNow
CALSCALE:GREGORIAN
BEGIN:VEVENT
UID:8e57d288-1d4f-11f1-9dee-0a58a9feac02
DTSTAMP:20260419T142606Z
SUMMARY:Softball Practices
URL;VALUE=URI:https://www.nottingham.k12.nh.us/student-activities/calendar/
 8909591/softball-practices
DTSTART:20260326T183000Z
DTEND:20260326T201500Z
END:VEVENT
END:VCALENDAR
