BEGIN:VCALENDAR
VERSION:2.0
PRODID:SchoolNow
CALSCALE:GREGORIAN
BEGIN:VEVENT
UID:8e57cf18-1d4f-11f1-a33b-0a58a9feac02
DTSTAMP:20260419T142606Z
SUMMARY:Boys Varsity Practice
URL;VALUE=URI:https://www.nottingham.k12.nh.us/student-activities/calendar/
 8909587/boys-varsity-practice
DTSTART:20260128T221500Z
DTEND:20260128T233000Z
END:VEVENT
END:VCALENDAR
