BEGIN:VCALENDAR
VERSION:2.0
PRODID:SchoolNow
CALSCALE:GREGORIAN
BEGIN:VEVENT
UID:8e57ce32-1d4f-11f1-9c09-0a58a9feac02
DTSTAMP:20260419T142606Z
SUMMARY:Boys Varsity Practice
URL;VALUE=URI:https://www.nottingham.k12.nh.us/student-activities/calendar/
 8909586/boys-varsity-practice
DTSTART:20260121T221500Z
DTEND:20260121T233000Z
END:VEVENT
END:VCALENDAR
