BEGIN:VCALENDAR
VERSION:2.0
PRODID:SchoolNow
CALSCALE:GREGORIAN
BEGIN:VEVENT
UID:8e57cc98-1d4f-11f1-bc5b-0a58a9feac02
DTSTAMP:20260419T142606Z
SUMMARY:Practice slot 4p-5:30
URL;VALUE=URI:https://www.nottingham.k12.nh.us/student-activities/calendar/
 8909585/practice-slot-4p-5-30
DTSTART:20260116T210000Z
DTEND:20260116T223000Z
END:VEVENT
END:VCALENDAR
