BEGIN:VCALENDAR
VERSION:2.0
PRODID:SchoolNow
CALSCALE:GREGORIAN
BEGIN:VEVENT
UID:8e57cbb2-1d4f-11f1-8215-0a58a9feac02
DTSTAMP:20260419T142606Z
SUMMARY:Practice slot 4p-5:30
URL;VALUE=URI:https://www.nottingham.k12.nh.us/student-activities/calendar/
 8909584/practice-slot-4p-5-30
DTSTART:20260109T210000Z
DTEND:20260109T223000Z
END:VEVENT
END:VCALENDAR
