BEGIN:VCALENDAR
VERSION:2.0
PRODID:SchoolNow
CALSCALE:GREGORIAN
BEGIN:VEVENT
UID:8e57c9dc-1d4f-11f1-96f2-0a58a9feac02
DTSTAMP:20260419T142606Z
SUMMARY:Boys JV Vs. Deerfield - Playoffs
LOCATION:Deerfield Community School\, 66 North Road\, Deerfield\, NH 03037
URL;VALUE=URI:https://www.nottingham.k12.nh.us/student-activities/calendar/
 8909582/boys-jv-vs-deerfield-playoffs
DTSTART:20260203T221500Z
DTEND:20260203T231500Z
END:VEVENT
END:VCALENDAR
