BEGIN:VCALENDAR
VERSION:2.0
PRODID:SchoolNow
CALSCALE:GREGORIAN
BEGIN:VEVENT
UID:8e57c810-1d4f-11f1-b6ff-0a58a9feac02
DTSTAMP:20260419T142606Z
SUMMARY:Varsity teams (home) vs. Epsom (G/B)
LOCATION:Nottingham Elementary School\, 245 Stage Rd\, Nottingham\, NH 0329
 0\, USA
URL;VALUE=URI:https://www.nottingham.k12.nh.us/student-activities/calendar/
 8909580/varsity-teams-home-vs-epsom-g-b
DTSTART:20260106T204500Z
DTEND:20260106T230000Z
END:VEVENT
END:VCALENDAR
