BEGIN:VCALENDAR
VERSION:2.0
PRODID:SchoolNow
CALSCALE:GREGORIAN
BEGIN:VEVENT
UID:8e57c734-1d4f-11f1-ac8b-0a58a9feac02
DTSTAMP:20260419T142606Z
SUMMARY:Boys Varsity Semi-Finals @ Barrington
LOCATION:Barrington Middle School\, 51 Haley Dr\, Barrington\, NH 03825\, U
 SA
URL;VALUE=URI:https://www.nottingham.k12.nh.us/student-activities/calendar/
 8909579/boys-varsity-semi-finals-barrington
DTSTART;VALUE=DATE:20260203
DTEND;VALUE=DATE:20260204
END:VEVENT
END:VCALENDAR
