BEGIN:VCALENDAR
VERSION:2.0
PRODID:SchoolNow
CALSCALE:GREGORIAN
BEGIN:VEVENT
UID:8e57c658-1d4f-11f1-a983-0a58a9feac02
DTSTAMP:20260419T142606Z
SUMMARY:Boys Varsity Practice
URL;VALUE=URI:https://www.nottingham.k12.nh.us/student-activities/calendar/
 8909578/boys-varsity-practice
DTSTART:20260127T221500Z
DTEND:20260127T233000Z
END:VEVENT
END:VCALENDAR
