BEGIN:VCALENDAR
VERSION:2.0
PRODID:SchoolNow
CALSCALE:GREGORIAN
BEGIN:VEVENT
UID:8e57c572-1d4f-11f1-8419-0a58a9feac02
DTSTAMP:20260419T142606Z
SUMMARY:Varsity Scrimmage @ Nute G/B
URL;VALUE=URI:https://www.nottingham.k12.nh.us/student-activities/calendar/
 8909577/varsity-scrimmage-nute-g-b
DTSTART;VALUE=DATE:20260212
DTEND;VALUE=DATE:20260213
END:VEVENT
END:VCALENDAR
