BEGIN:VCALENDAR
VERSION:2.0
PRODID:SchoolNow
CALSCALE:GREGORIAN
BEGIN:VEVENT
UID:8e57c48c-1d4f-11f1-8c0c-0a58a9feac02
DTSTAMP:20260419T142606Z
SUMMARY:Gymnasium NOT AVAILABLE after school
URL;VALUE=URI:https://www.nottingham.k12.nh.us/student-activities/calendar/
 8909576/gymnasium-not-available-after-school
DTSTART;VALUE=DATE:20260130
DTEND;VALUE=DATE:20260131
END:VEVENT
END:VCALENDAR
