BEGIN:VCALENDAR
VERSION:2.0
PRODID:SchoolNow
CALSCALE:GREGORIAN
BEGIN:VEVENT
UID:8e57c3a6-1d4f-11f1-8f28-0a58a9feac02
DTSTAMP:20260419T142606Z
SUMMARY:Girls JV Practice
URL;VALUE=URI:https://www.nottingham.k12.nh.us/student-activities/calendar/
 8909575/girls-jv-practice
DTSTART:20260127T193000Z
DTEND:20260127T210000Z
END:VEVENT
END:VCALENDAR
