BEGIN:VCALENDAR
VERSION:2.0
PRODID:SchoolNow
CALSCALE:GREGORIAN
BEGIN:VEVENT
UID:8e57c2a2-1d4f-11f1-aa56-0a58a9feac02
DTSTAMP:20260419T142606Z
SUMMARY:Girls Varsity Practice 230-400
URL;VALUE=URI:https://www.nottingham.k12.nh.us/student-activities/calendar/
 8909574/girls-varsity-practice-230-400
DTSTART:20260209T193000Z
DTEND:20260209T210000Z
END:VEVENT
END:VCALENDAR
