BEGIN:VCALENDAR
VERSION:2.0
PRODID:SchoolNow
CALSCALE:GREGORIAN
BEGIN:VEVENT
UID:8e57c086-1d4f-11f1-a2cd-0a58a9feac02
DTSTAMP:20260419T142606Z
SUMMARY:Girls (home) vs. Deerfield 3:45/5:00
LOCATION:Nottingham Elementary School\, 245 Stage Rd\, Nottingham\, NH 0329
 0\, USA
URL;VALUE=URI:https://www.nottingham.k12.nh.us/student-activities/calendar/
 8909573/girls-home-vs-deerfield-3-45-5-00
DTSTART:20260113T204500Z
DTEND:20260113T230000Z
END:VEVENT
END:VCALENDAR
