BEGIN:VCALENDAR
VERSION:2.0
PRODID:SchoolNow
CALSCALE:GREGORIAN
BEGIN:VEVENT
UID:8e57bf8c-1d4f-11f1-8928-0a58a9feac02
DTSTAMP:20260419T142606Z
SUMMARY:School Social - 6p-8p
URL;VALUE=URI:https://www.nottingham.k12.nh.us/student-activities/calendar/
 8909572/school-social-6p-8p
DTSTART:20260123T230000Z
DTEND:20260124T010000Z
END:VEVENT
END:VCALENDAR
