BEGIN:VCALENDAR
VERSION:2.0
PRODID:SchoolNow
CALSCALE:GREGORIAN
BEGIN:VEVENT
UID:8e57bea6-1d4f-11f1-90f3-0a58a9feac02
DTSTAMP:20260419T142606Z
SUMMARY:Varsity (home) vs. Pembroke B/G
LOCATION:Nottingham Elementary School\, 245 Stage Rd\, Nottingham\, NH 0329
 0\, USA
URL;VALUE=URI:https://www.nottingham.k12.nh.us/student-activities/calendar/
 8909571/varsity-home-vs-pembroke-b-g
DTSTART:20260115T204500Z
DTEND:20260115T230000Z
END:VEVENT
END:VCALENDAR
