BEGIN:VCALENDAR
VERSION:2.0
PRODID:SchoolNow
CALSCALE:GREGORIAN
BEGIN:VEVENT
UID:8e57bdac-1d4f-11f1-af5c-0a58a9feac02
DTSTAMP:20260419T203107Z
SUMMARY:Girls Open Gym
URL;VALUE=URI:https://www.nottingham.k12.nh.us/student-activities/calendar/
 8909570/girls-open-gym
DTSTART:20251226T180000Z
DTEND:20251226T200000Z
END:VEVENT
END:VCALENDAR
