BEGIN:VCALENDAR
VERSION:2.0
PRODID:SchoolNow
CALSCALE:GREGORIAN
BEGIN:VEVENT
UID:8e57bbea-1d4f-11f1-a7ed-0a58a9feac02
DTSTAMP:20260419T142606Z
SUMMARY:Varsity Championship Games @ Barrington (G/B)
LOCATION:Barrington Middle School\, 51 Haley Dr\, Barrington\, NH 03825\, U
 SA
URL;VALUE=URI:https://www.nottingham.k12.nh.us/student-activities/calendar/
 8909568/varsity-championship-games-barrington-g-b
DTSTART;VALUE=DATE:20260205
DTEND;VALUE=DATE:20260206
END:VEVENT
END:VCALENDAR
