BEGIN:VCALENDAR
VERSION:2.0
PRODID:SchoolNow
CALSCALE:GREGORIAN
BEGIN:VEVENT
UID:8e57bae6-1d4f-11f1-9841-0a58a9feac02
DTSTAMP:20260419T142606Z
SUMMARY:Softball Tryouts - 1st session
URL;VALUE=URI:https://www.nottingham.k12.nh.us/student-activities/calendar/
 8909567/softball-tryouts-1st-session
DTSTART:20260316T183000Z
DTEND:20260316T201500Z
END:VEVENT
END:VCALENDAR
