BEGIN:VCALENDAR
VERSION:2.0
PRODID:SchoolNow
CALSCALE:GREGORIAN
BEGIN:VEVENT
UID:8e57ba0a-1d4f-11f1-be90-0a58a9feac02
DTSTAMP:20260419T203107Z
SUMMARY:Girls JV Scrimmage 230p
LOCATION:Nottingham School Gymnasium
URL;VALUE=URI:https://www.nottingham.k12.nh.us/student-activities/calendar/
 8909566/girls-jv-scrimmage-230p
DTSTART:20251229T193000Z
DTEND:20251229T203000Z
END:VEVENT
END:VCALENDAR
