BEGIN:VCALENDAR
VERSION:2.0
PRODID:SchoolNow
CALSCALE:GREGORIAN
BEGIN:VEVENT
UID:8e57b910-1d4f-11f1-b8e9-0a58a9feac02
DTSTAMP:20260419T142606Z
SUMMARY:Girls @ Northwood 3:45/5:00
LOCATION:Northwood School\, 511 1st New Hampshire Turnpike\, Northwood\, NH
  03261\, USA
URL;VALUE=URI:https://www.nottingham.k12.nh.us/student-activities/calendar/
 8909565/girls-northwood-3-45-5-00
DTSTART:20260108T204500Z
DTEND:20260108T230000Z
END:VEVENT
END:VCALENDAR
