BEGIN:VCALENDAR
VERSION:2.0
PRODID:SchoolNow
CALSCALE:GREGORIAN
BEGIN:VEVENT
UID:8e57b82a-1d4f-11f1-95e7-0a58a9feac02
DTSTAMP:20260419T142606Z
SUMMARY:Girls @ Strafford 4:00/5:15
LOCATION:Strafford School\, 22 Roller Coaster Rd\, Strafford\, NH 03884\, U
 SA
URL;VALUE=URI:https://www.nottingham.k12.nh.us/student-activities/calendar/
 8909564/girls-strafford-4-00-5-15
DTSTART:20260122T210000Z
DTEND:20260122T230000Z
END:VEVENT
END:VCALENDAR
