BEGIN:VCALENDAR
VERSION:2.0
PRODID:SchoolNow
CALSCALE:GREGORIAN
BEGIN:VEVENT
UID:8e57b744-1d4f-11f1-80de-0a58a9feac02
DTSTAMP:20260419T142606Z
SUMMARY:Boys Varsity Practice
URL;VALUE=URI:https://www.nottingham.k12.nh.us/student-activities/calendar/
 8909563/boys-varsity-practice
DTSTART:20260211T210000Z
DTEND:20260211T223000Z
END:VEVENT
END:VCALENDAR
