BEGIN:VCALENDAR
VERSION:2.0
PRODID:SchoolNow
CALSCALE:GREGORIAN
BEGIN:VEVENT
UID:8e57b668-1d4f-11f1-bc9e-0a58a9feac02
DTSTAMP:20260419T142606Z
SUMMARY:Baseball/Softball (away) @ Barrington (CXLD)
URL;VALUE=URI:https://www.nottingham.k12.nh.us/student-activities/calendar/
 8909562/baseball-softball-away-barrington-cxld
DTSTART;VALUE=DATE:20260407
DTEND;VALUE=DATE:20260408
END:VEVENT
END:VCALENDAR
