BEGIN:VCALENDAR
VERSION:2.0
PRODID:SchoolNow
CALSCALE:GREGORIAN
BEGIN:VEVENT
UID:8e57b578-1d4f-11f1-8c0c-0a58a9feac02
DTSTAMP:20260419T203107Z
SUMMARY:Open Gym - Boys
URL;VALUE=URI:https://www.nottingham.k12.nh.us/student-activities/calendar/
 8909561/open-gym-boys
DTSTART:20251226T200000Z
DTEND:20251226T220000Z
END:VEVENT
END:VCALENDAR
