BEGIN:VCALENDAR
VERSION:2.0
PRODID:SchoolNow
CALSCALE:GREGORIAN
BEGIN:VEVENT
UID:8e57b38e-1d4f-11f1-ba74-0a58a9feac02
DTSTAMP:20260419T142606Z
SUMMARY:Girls JV Practice
URL;VALUE=URI:https://www.nottingham.k12.nh.us/student-activities/calendar/
 8909559/girls-jv-practice
DTSTART:20260126T193000Z
DTEND:20260126T210000Z
END:VEVENT
END:VCALENDAR
