BEGIN:VCALENDAR
VERSION:2.0
PRODID:SchoolNow
CALSCALE:GREGORIAN
BEGIN:VEVENT
UID:8e57b29e-1d4f-11f1-91dd-0a58a9feac02
DTSTAMP:20260419T142606Z
SUMMARY:Volleyball Open Gym (6-8th)
URL;VALUE=URI:https://www.nottingham.k12.nh.us/student-activities/calendar/
 8909558/volleyball-open-gym-6-8th
DTSTART:20260302T193000Z
DTEND:20260302T213000Z
END:VEVENT
END:VCALENDAR
