BEGIN:VCALENDAR
VERSION:2.0
PRODID:SchoolNow
CALSCALE:GREGORIAN
BEGIN:VEVENT
UID:8e57b14a-1d4f-11f1-b7e3-0a58a9feac02
DTSTAMP:20260419T142606Z
SUMMARY:Girls Varsity Semi-finals @ Barrington
URL;VALUE=URI:https://www.nottingham.k12.nh.us/student-activities/calendar/
 8909557/girls-varsity-semi-finals-barrington
DTSTART;VALUE=DATE:20260204
DTEND;VALUE=DATE:20260205
END:VEVENT
END:VCALENDAR
