BEGIN:VCALENDAR
VERSION:2.0
PRODID:SchoolNow
CALSCALE:GREGORIAN
BEGIN:VEVENT
UID:8e57b046-1d4f-11f1-bd64-0a58a9feac02
DTSTAMP:20260419T142606Z
SUMMARY:Baseball Scrimmage Raymond /Softball Practice
URL;VALUE=URI:https://www.nottingham.k12.nh.us/student-activities/calendar/
 8909556/baseball-scrimmage-raymond-softball-practice
DTSTART:20260414T183000Z
DTEND:20260414T203000Z
END:VEVENT
END:VCALENDAR
