BEGIN:VCALENDAR
VERSION:2.0
PRODID:SchoolNow
CALSCALE:GREGORIAN
BEGIN:VEVENT
UID:8e57ad9e-1d4f-11f1-b2f2-0a58a9feac02
DTSTAMP:20260419T142606Z
SUMMARY:Girl JV vs.  Barrington - Playoff Game
LOCATION:Deerfield Community School\, 66 North Road\, Deerfield\, NH 03037
URL;VALUE=URI:https://www.nottingham.k12.nh.us/student-activities/calendar/
 8909554/girl-jv-vs-barrington-playoff-game
DTSTART:20260204T204500Z
DTEND:20260204T214500Z
END:VEVENT
END:VCALENDAR
