BEGIN:VCALENDAR
VERSION:2.0
PRODID:SchoolNow
CALSCALE:GREGORIAN
BEGIN:VEVENT
UID:8e57ac40-1d4f-11f1-a087-0a58a9feac02
DTSTAMP:20260419T142606Z
SUMMARY:Varsity Teams @ Epsom B/G
LOCATION:Epsom Central School\, 282 Black Hall Rd\, Epsom\, NH 03234\, USA
URL;VALUE=URI:https://www.nottingham.k12.nh.us/student-activities/calendar/
 8909553/varsity-teams-epsom-b-g
DTSTART:20260129T204500Z
DTEND:20260129T231500Z
END:VEVENT
END:VCALENDAR
