BEGIN:VCALENDAR
VERSION:2.0
PRODID:SchoolNow
CALSCALE:GREGORIAN
BEGIN:VEVENT
UID:8e57a81c-1d4f-11f1-a4b2-0a58a9feac02
DTSTAMP:20260419T203107Z
SUMMARY:Boys JV Scrimmage vs. Raymond 4p
LOCATION:Nottingham School Gymnasium
URL;VALUE=URI:https://www.nottingham.k12.nh.us/student-activities/calendar/
 8909550/boys-jv-scrimmage-vs-raymond-4p
DTSTART:20251229T210000Z
DTEND:20251229T220000Z
END:VEVENT
END:VCALENDAR
