BEGIN:VCALENDAR
VERSION:2.0
PRODID:SchoolNow
CALSCALE:GREGORIAN
BEGIN:VEVENT
UID:8e57a650-1d4f-11f1-8966-0a58a9feac02
DTSTAMP:20260419T142606Z
SUMMARY:Boys @ Barrington 3:45/5:00
LOCATION:Barrington Middle School\, 51 Haley Dr\, Barrington\, NH 03825\, U
 SA
URL;VALUE=URI:https://www.nottingham.k12.nh.us/student-activities/calendar/
 8909548/boys-barrington-3-45-5-00
DTSTART:20260120T204500Z
DTEND:20260120T230000Z
END:VEVENT
END:VCALENDAR
