BEGIN:VCALENDAR
VERSION:2.0
PRODID:SchoolNow
CALSCALE:GREGORIAN
BEGIN:VEVENT
UID:8e57a574-1d4f-11f1-a403-0a58a9feac02
DTSTAMP:20260419T142606Z
SUMMARY:Boys Varsity 1st Rd Playoff Game
LOCATION:Strafford School\, 22 Roller Coaster Rd\, Strafford\, NH 03884
URL;VALUE=URI:https://www.nottingham.k12.nh.us/student-activities/calendar/
 8909547/boys-varsity-1st-rd-playoff-game
DTSTART:20260202T210000Z
DTEND:20260202T220000Z
END:VEVENT
END:VCALENDAR
