BEGIN:VCALENDAR
VERSION:2.0
PRODID:SchoolNow
CALSCALE:GREGORIAN
BEGIN:VEVENT
UID:8e57a2a4-1d4f-11f1-bbc5-0a58a9feac02
DTSTAMP:20260419T142606Z
SUMMARY:Boys Varsity Practice 4-515
URL;VALUE=URI:https://www.nottingham.k12.nh.us/student-activities/calendar/
 8909544/boys-varsity-practice-4-515
DTSTART:20260209T210000Z
DTEND:20260209T221500Z
END:VEVENT
END:VCALENDAR
