BEGIN:VCALENDAR
VERSION:2.0
PRODID:SchoolNow
CALSCALE:GREGORIAN
BEGIN:VEVENT
UID:8e57a0d8-1d4f-11f1-94b1-0a58a9feac02
DTSTAMP:20260419T142606Z
SUMMARY:Softball Tryouts - 2nd Session
URL;VALUE=URI:https://www.nottingham.k12.nh.us/student-activities/calendar/
 8909542/softball-tryouts-2nd-session
DTSTART:20260317T183000Z
DTEND:20260317T201500Z
END:VEVENT
END:VCALENDAR
