BEGIN:VCALENDAR
VERSION:2.0
PRODID:SchoolNow
CALSCALE:GREGORIAN
BEGIN:VEVENT
UID:8e579eee-1d4f-11f1-ac01-0a58a9feac02
DTSTAMP:20260419T142606Z
SUMMARY:Girls volleyball open gym (6-8th grade)
URL;VALUE=URI:https://www.nottingham.k12.nh.us/student-activities/calendar/
 8909540/girls-volleyball-open-gym-6-8th-grade
DTSTART:20260210T193000Z
DTEND:20260210T213000Z
END:VEVENT
END:VCALENDAR
